BEGIN:VCALENDAR
VERSION:2.0
PRODID:-//Quirk Social  - ECPv6.15.18//NONSGML v1.0//EN
CALSCALE:GREGORIAN
METHOD:PUBLISH
X-ORIGINAL-URL:https://quirksocial.ca
X-WR-CALDESC:Events for Quirk Social 
REFRESH-INTERVAL;VALUE=DURATION:PT1H
X-Robots-Tag:noindex
X-PUBLISHED-TTL:PT1H
BEGIN:VTIMEZONE
TZID:America/Edmonton
BEGIN:DAYLIGHT
TZOFFSETFROM:-0700
TZOFFSETTO:-0600
TZNAME:MDT
DTSTART:20240310T090000
END:DAYLIGHT
BEGIN:STANDARD
TZOFFSETFROM:-0600
TZOFFSETTO:-0700
TZNAME:MST
DTSTART:20241103T080000
END:STANDARD
BEGIN:DAYLIGHT
TZOFFSETFROM:-0700
TZOFFSETTO:-0600
TZNAME:MDT
DTSTART:20250309T090000
END:DAYLIGHT
BEGIN:STANDARD
TZOFFSETFROM:-0600
TZOFFSETTO:-0700
TZNAME:MST
DTSTART:20251102T080000
END:STANDARD
BEGIN:DAYLIGHT
TZOFFSETFROM:-0700
TZOFFSETTO:-0600
TZNAME:MDT
DTSTART:20260308T090000
END:DAYLIGHT
BEGIN:STANDARD
TZOFFSETFROM:-0600
TZOFFSETTO:-0700
TZNAME:MST
DTSTART:20261101T080000
END:STANDARD
END:VTIMEZONE
BEGIN:VEVENT
DTSTART;TZID=America/Edmonton:20250411T170000
DTEND;TZID=America/Edmonton:20250411T220000
DTSTAMP:20260424T032713
CREATED:20250213T001946Z
LAST-MODIFIED:20250213T001948Z
UID:10109-1744390800-1744408800@quirksocial.ca
SUMMARY:Sip Sip Savour 
DESCRIPTION:Bring the whole gang down for the 3rd Annual Sip Sip Savour — a tasting style event showcasing breweries and distilleries from Cochrane & the Bow Valley areas. Sample tickets will be available for purchase at $1/ticket and most samples are 2-3 tickets. \n\n\n\nWe are excited to have some non-alcoholic options offered by our group this Spring as well! Make sure to follow @quirksocial_events on IG to be the first to know what breweries/distilleries will be sampling their products! \n\n\n\n\n5PM – Doors Open\n\n\n\n9PM – No Entry\n\n\n\n9:15PM – Sample Ticket Sales End\n\n\n\n9:30PM – Last Call\n\n\n\n10PM – Event/Consumption Ends\n\n\n\n\nTickets MAY be available at the door\, depending on remaining capacity on event day. We strongly encourage you to grab tickets early to avoid disappointment at the door. \n\n\n\nAttendees must be over 18\, and IDs will be checked at the door.
URL:https://quirksocial.ca/event/sip-sip-savour-2/
LOCATION:Cochrane Lions Club Event Centre\, 109 Fifth Avenue\, Cochrane\, Alberta\, T4C 0A4\, Canada
END:VEVENT
BEGIN:VEVENT
DTSTART;TZID=America/Edmonton:20250419T110000
DTEND;TZID=America/Edmonton:20250419T160000
DTSTAMP:20260424T032713
CREATED:20250218T211801Z
LAST-MODIFIED:20250328T215659Z
UID:10126-1745060400-1745078400@quirksocial.ca
SUMMARY:Easter Pop-Up Market 2025
DESCRIPTION:Bring the whole family out on April 19th for our Easter Pop-Up Market at SLS Centre (curling rink). \n\n\n\nShop and visit with the local vendors while the kids participate in our fun Easter Egg Scavenger hunt\, colour their entry for the colouring contests and have their faces painted. \n\n\n\nThe first 200 kids to complete their scavenger hunt receive a goodie bag! \n\n\n\nThere is a small $2/person or $5/family entrance fee. \n\n\n\nFollow @quirksocial and @quirksocial_events on social media for more information including the full vendor list closer to the event date. \n\n\n\nInterested vendors can apply HERE.
URL:https://quirksocial.ca/event/easter-pop-up-market-2025/
LOCATION:Cochrane Lions Club Event Centre\, 109 Fifth Avenue\, Cochrane\, Alberta\, T4C 0A4\, Canada
ATTACH;FMTTYPE=image/png:https://quirksocial.ca/wp-content/uploads/2025/02/Easter-Market-2024.png
END:VEVENT
END:VCALENDAR