BEGIN:VCALENDAR
VERSION:2.0
PRODID:-//Quirk Social  - ECPv6.15.18//NONSGML v1.0//EN
CALSCALE:GREGORIAN
METHOD:PUBLISH
X-ORIGINAL-URL:https://quirksocial.ca
X-WR-CALDESC:Events for Quirk Social 
REFRESH-INTERVAL;VALUE=DURATION:PT1H
X-Robots-Tag:noindex
X-PUBLISHED-TTL:PT1H
BEGIN:VTIMEZONE
TZID:America/Edmonton
BEGIN:DAYLIGHT
TZOFFSETFROM:-0700
TZOFFSETTO:-0600
TZNAME:MDT
DTSTART:20240310T090000
END:DAYLIGHT
BEGIN:STANDARD
TZOFFSETFROM:-0600
TZOFFSETTO:-0700
TZNAME:MST
DTSTART:20241103T080000
END:STANDARD
BEGIN:DAYLIGHT
TZOFFSETFROM:-0700
TZOFFSETTO:-0600
TZNAME:MDT
DTSTART:20250309T090000
END:DAYLIGHT
BEGIN:STANDARD
TZOFFSETFROM:-0600
TZOFFSETTO:-0700
TZNAME:MST
DTSTART:20251102T080000
END:STANDARD
BEGIN:DAYLIGHT
TZOFFSETFROM:-0700
TZOFFSETTO:-0600
TZNAME:MDT
DTSTART:20260308T090000
END:DAYLIGHT
BEGIN:STANDARD
TZOFFSETFROM:-0600
TZOFFSETTO:-0700
TZNAME:MST
DTSTART:20261101T080000
END:STANDARD
END:VTIMEZONE
BEGIN:VEVENT
DTSTART;TZID=America/Edmonton:20250114T180000
DTEND;TZID=America/Edmonton:20250114T210000
DTSTAMP:20260424T075353
CREATED:20241218T174933Z
LAST-MODIFIED:20241218T203415Z
UID:9998-1736877600-1736888400@quirksocial.ca
SUMMARY:Singles Week - Trivia Night
DESCRIPTION:Welcome to Cochrane’s second annual Singles Week where we are bringing singles together in fun and relaxed environments to participate in different activities with other local singles with potential to make connections – love or friendship. \n\n\n\nGet ready to test your knowledge and meet new people during our kick off event for Singles Week! \n\n\n\nTrivia Night is the perfect opportunity to mingle with other singles in a relaxed and entertaining atmosphere. Whether you’re a trivia master or just looking for a good time\, join us at Half Hitch Brewing on Tuesday January 14th. \n\n\n\nTeams are formed based on registrations. As the intention is to meet new people\, groups who register together will likely be split up. \n\n\n\nTickets include access to the reserved area\, one drink\, trivia games and door prizes. \n\n\n\nAs you enjoy the company of the other singles on your team\, you’re encouraged to try the craft beer and mouthwatering bites (additional cost) featured at Half Hitch. \n\n\n\nGet ready for a night filled with laughter\, friendly competition\, and the chance to meet someone special! \n\n\n\n\nGet Tickets!
URL:https://quirksocial.ca/event/singles-week-trivia-night/
LOCATION:Half Hitch Brewing\, 10 Griffin Industrial Point #1\, Cochrane\, AB\, T4C 0A2\, Canada
END:VEVENT
BEGIN:VEVENT
DTSTART;TZID=America/Edmonton:20250115T190000
DTEND;TZID=America/Edmonton:20250115T220000
DTSTAMP:20260424T075353
CREATED:20241218T210543Z
LAST-MODIFIED:20241218T210544Z
UID:10010-1736967600-1736978400@quirksocial.ca
SUMMARY:Singles Week - Match & Mingle
DESCRIPTION:Welcome to Cochrane’s second annual Singles Week where we are bringing singles together in fun and relaxed environments to participate in different activities with other local singles with potential to make connections – love or friendship. \n\n\n\nLooking for a fresh and fun way to meet new people? Join us for Match & Mingle at Found Books on Wednesday January 15th at 7pm. Embrace the the low-key yet lively vibes as you engage in a host of icebreaker games – perfect for sparking conversations and laughs. There’ll be prizes and time to mingle – and of course\, you won’t want to miss the “pitch a friend” presentations. Found’s wine & coffee bar will be open to quench your thirst all night long. \n\n\n\nPITCH A FRIEND \n\n\n\nFor some added fun – bring a friend who knows you best and let them shine in a “Pitch a Friend” presentation. They’ll have five minutes to showcase why you’re the catch of the night—and maybe even set you up for your next great connection. Friends may attend for free and will not be included in the other parts of the event. \n\n\n\nWhether you’re playing our lighthearted mingling games\, enjoying the energy of the room\, or cheering on your wingperson’s stellar pitch\, this event is all about having fun and meeting people in a no-pressure environment. \n\n\n\n\nGet Tickets!
URL:https://quirksocial.ca/event/singles-week-match-mingle/
LOCATION:Found Bookshop\, 208 1 Street West\, Cochrane\, Alberta\, T4C 1B7\, Canada
END:VEVENT
BEGIN:VEVENT
DTSTART;TZID=America/Edmonton:20250117T183000
DTEND;TZID=America/Edmonton:20250117T220000
DTSTAMP:20260424T075353
CREATED:20241218T211009Z
LAST-MODIFIED:20241218T234939Z
UID:10013-1737138600-1737151200@quirksocial.ca
SUMMARY:Singles Week - Bowling Night
DESCRIPTION:Welcome to Cochrane’s second annual Singles Week where we are bringing singles together in fun and relaxed environments to participate in different activities with other local singles with potential to make connections – love or friendship. \n\n\n\nGet ready to strike up conversations and make new connections while enjoying some friendly competition on the lanes. Whether you’re a seasoned bowler or a newbie\, this event is open to singles of all skill levels. \n\n\n\nTickets include: \n\n\n\n3 hours of bowling\, with shoe rentalUse of sports simulators & arcade gamesPopcorn\, fountain pop/juice/coffeeMingling time during & after the gamesTeams will be formed based on registrations\, and you will have the opporunity to play on two different teams. \n\n\n\nGrab your bowling shoes\, bring your A-game\, and let’s roll into a fantastic night of mingling and laughter. \n\n\n\n\nGet Tickets!
URL:https://quirksocial.ca/event/singles-week-bowling-night/
LOCATION:Cochrane Lanes\, 402 Railway St W Suite 11\, Cochrane\, Alberta\, T4C 2B6\, Canada
END:VEVENT
BEGIN:VEVENT
DTSTART;TZID=America/Edmonton:20250124T190000
DTEND;TZID=America/Edmonton:20250124T210000
DTSTAMP:20260424T075353
CREATED:20250102T185648Z
LAST-MODIFIED:20250102T185852Z
UID:10025-1737745200-1737752400@quirksocial.ca
SUMMARY:Speed-Friending
DESCRIPTION:We’re ready to help break the ice and get rid of those awkward social barriers! \n\n\n\nSpeed-Friending provides an opportunity to meet new friends in Cochrane in a fun and casual environment! Set up like speed-dating\, attendees engage through easy-going and direct conversations\, resulting in new connections and friendships. We will also have ice breaker games for a chance to win the door prize! \n\n\n\nThis idea first stemmed from repeatedly hearing from people that they’re looking to build new friendships\, but aren’t sure where to start as adults. With so many new people coming to Cochrane\, we see the need and interest for this type of event even more. \n\n\n\nYES! Most people do tend to come alone to these events\, but you’re welcome to come with a friend – you’ll just have some time to chat with them too. \n\n\n\nFound’s bar will be open with wine\, beer\, coffee and non-alcoholic drinks available. \n\n\n\nGet your tickets before Jan 17 for Early Bird pricing! \n\n\n\n\n\n\n\n\nGrab your Ticket!
URL:https://quirksocial.ca/event/speed-friending-4/
LOCATION:Found Bookshop\, 208 1 Street West\, Cochrane\, Alberta\, T4C 1B7\, Canada
END:VEVENT
END:VCALENDAR