BEGIN:VCALENDAR
VERSION:2.0
PRODID:-//Quirk Social  - ECPv6.15.18//NONSGML v1.0//EN
CALSCALE:GREGORIAN
METHOD:PUBLISH
X-ORIGINAL-URL:https://quirksocial.ca
X-WR-CALDESC:Events for Quirk Social 
REFRESH-INTERVAL;VALUE=DURATION:PT1H
X-Robots-Tag:noindex
X-PUBLISHED-TTL:PT1H
BEGIN:VTIMEZONE
TZID:America/Edmonton
BEGIN:DAYLIGHT
TZOFFSETFROM:-0700
TZOFFSETTO:-0600
TZNAME:MDT
DTSTART:20230312T090000
END:DAYLIGHT
BEGIN:STANDARD
TZOFFSETFROM:-0600
TZOFFSETTO:-0700
TZNAME:MST
DTSTART:20231105T080000
END:STANDARD
BEGIN:DAYLIGHT
TZOFFSETFROM:-0700
TZOFFSETTO:-0600
TZNAME:MDT
DTSTART:20240310T090000
END:DAYLIGHT
BEGIN:STANDARD
TZOFFSETFROM:-0600
TZOFFSETTO:-0700
TZNAME:MST
DTSTART:20241103T080000
END:STANDARD
BEGIN:DAYLIGHT
TZOFFSETFROM:-0700
TZOFFSETTO:-0600
TZNAME:MDT
DTSTART:20250309T090000
END:DAYLIGHT
BEGIN:STANDARD
TZOFFSETFROM:-0600
TZOFFSETTO:-0700
TZNAME:MST
DTSTART:20251102T080000
END:STANDARD
END:VTIMEZONE
BEGIN:VEVENT
DTSTART;TZID=America/Edmonton:20241203T190000
DTEND;TZID=America/Edmonton:20241203T213000
DTSTAMP:20260424T092515
CREATED:20241004T164619Z
LAST-MODIFIED:20241004T164620Z
UID:9776-1733252400-1733261400@quirksocial.ca
SUMMARY:Holiday Wreath/Porch Pot Workshop
DESCRIPTION:We’re back for another year of Holiday Crafting! \n\n\n\nUnleash your creativity and kick off the holiday season at our Holiday Wreath/Porch Pot Workshop! Let your imagination run wild as we get into the festive spirit and create your own unique holiday decorations that will impress your neighbors and guests. Whether you’re a seasoned crafter or a beginner\, this in-person event is perfect for everyone so grab your friends and join us for an evening of creativity and laughter. \n\n\n\nOur talented instructor\, Niki from Blooms & Design\, will guide you through the process of making your choice of a beautiful wreath or porch pot. You’ll have a wide selection of materials to choose from\, including fresh greenery\, ribbons\, ornaments\, and more. \n\n\n\nWREATH – Create your own unique Holiday wreath by choosing from a selection of cedar\, fir and pine as well as decorative pieces from the decor “buffet” – berries\, pinecones\, bells\, bows and more! Typical diameter of finished product is 18-24″. \n\n\n\nPORCH POT – Start with your black container (these can be set out or dropped into an existing planter pot) and build your pot up from a selection of cedar\, fir\, pine\, dogwood branches and large sugar cones. Add in your red berries\, birch poles and other decor to create your unique & stunning pot to display. \n\n\n\nFound’s wine & coffee bar will be open so grab a beverage and lets get festive!!
URL:https://quirksocial.ca/event/holiday-wreath-porch-pot-workshop-6/
LOCATION:Found Bookshop\, 208 1 Street West\, Cochrane\, Alberta\, T4C 1B7\, Canada
END:VEVENT
BEGIN:VEVENT
DTSTART;TZID=America/Edmonton:20241206T190000
DTEND;TZID=America/Edmonton:20241206T213000
DTSTAMP:20260424T092515
CREATED:20241008T194742Z
LAST-MODIFIED:20241113T184239Z
UID:9782-1733511600-1733520600@quirksocial.ca
SUMMARY:Grinch Tree/Holiday Wreath/Porch Pot Workshop
DESCRIPTION:Unleash your creativity and kick off the holiday season at our Grinch Tree/Holiday Wreath/Porch Pot Workshop! Let your imagination run wild as we get into the festive spirit and create your own unique holiday decorations that will impress your neighbors and guests. Whether you’re a seasoned crafter or a beginner\, this in-person event is perfect for everyone so grab your friends and join us for an evening of creativity and laughter. \n\n\n\nGRINCH TREE – A fun activity for kids and adults. We will walk you through how to build the grinch tree out of cedar and add in fresh flowers around the base. We will have a selection of accent pieces to choose from to customize each grinch tree making every one unique \n\n\n\nWREATH – Create your own unique Holiday wreath by choosing from a selection of cedar\, fir and pine as well as decorative pieces from the decor “buffet” – berries\, pinecones\, bells\, bows and more! Typical diameter of the finished product is 18-24″. \n\n\n\nPORCH POT – Start with your black container (these can be set out or dropped into an existing planter pot) and build your pot up from a selection of cedar\, fir\, pine\, dogwood branches and large sugar cones. Add in your red berries\, birch poles and other decor to create your unique & stunning pot to display. \n\n\n\nOur talented instructor\, Niki from Blooms & Design\, will guide you through the process of making your own Grinch Tree/Wreath/Porch Pot. You’ll have a wide selection of materials to choose from\, including fresh greenery\, ribbons\, ornaments\, and more. \n\n\n\nFound’s wine & coffee bar will be open so grab a beverage and let’s get festive!! \n\n\n\nLooking for something else? We are also offering more Holiday Wreath\, Porch Pot dates as well as a Centrepiece workshop. More details HERE
URL:https://quirksocial.ca/event/grinch-tree-workshop/
LOCATION:Found Bookshop\, 208 1 Street West\, Cochrane\, Alberta\, T4C 1B7\, Canada
END:VEVENT
BEGIN:VEVENT
DTSTART;TZID=America/Edmonton:20241212T190000
DTEND;TZID=America/Edmonton:20241212T210000
DTSTAMP:20260424T092515
CREATED:20241128T222718Z
LAST-MODIFIED:20241128T222719Z
UID:9987-1734030000-1734037200@quirksocial.ca
SUMMARY:Jeff Catto's Christmas Hamper Fundraiser
DESCRIPTION:Partner Event – Stop by Found\, have a drink\, and listen to great tunes by Dave Faber\, Jeff Catto\, and Katie Windt\, and donate to a good cause! All in support of Jeff Catto’s Christmas Hamper Fundraiser!
URL:https://quirksocial.ca/event/jeff-cattos-christmas-hamper-fundraiser/
LOCATION:Alberta
END:VEVENT
BEGIN:VEVENT
DTSTART;TZID=America/Edmonton:20241220T170000
DTEND;TZID=America/Edmonton:20241220T210000
DTSTAMP:20260424T092515
CREATED:20240820T171319Z
LAST-MODIFIED:20241205T173417Z
UID:9650-1734714000-1734728400@quirksocial.ca
SUMMARY:The Pop-Up Holiday Market
DESCRIPTION:Back for its 5th year\, the Holiday Pop-Up Market is one NIGHT only this year! Save the date and finish off your shopping with the last stop shop Holiday Market on Friday\, December 20th from 5-9pm at the Cochrane Lions Event Centre. Enjoy a festive cocktail & live music\, as you peruse the locally made gift ideas to wrap up your holiday shopping. Our ever popular swag bags will be available for the first 100 attendees. $2 entry. \n\n\n\nVendor list: \n\n\n\nThe Craft CochraneBasosiMaebird HandmadeFlint & FeatherScentsyTeam TaTa’sNorth Star Candle CoMCN Resin ObsessionMaMi & MeGinger Sprout CreationsWhale Being CrochetAmanda Blaire WellnessTotally HookedMogra BijouxNorthern Plume CreationsThe Eclectic JewellerCreativeCutlery2024NorwexAfton Brazzoni ArtDesign66Metanoia CreationsWild Country Art & Trading CoTuesday DesignsShona Brunton – Mary Kay Beauty ConsultantGluten Free Goods By MelCups of Creativitea and Blue-eyed Gal CreationsWren Wild Candle CoSassySpoon DesignsEmpowerCareFamiliar Laser DesignKonde ConsultingPUDU ADVENTUREBethany Vanderputten Illustration and Fine ArtNomad’s KitchenORE JewerlyForge TechGoodbakeLeaf FilterMeadows to MountainsLiving Through the seasonsJ. Tamer Trading CompanyRevive N ShineThe Cochrane Stitch WitchRafaella Graña’s ArtDropped Crystal Ltd.Pepper + Pilsner PapercraftsSennsational SerenityThe Blair Stitch \n\n\n\nSubject to change.Follow @quirksocial on social media for more information. \n\n\n\nInterested vendors can apply HERE \n\n\n\n\n\n\n\n\n\n \n\n\n\nOur events are designed to foster fun\, inclusivity\, and camaraderie. We believe in creating spaces where people can come together to connect\, share experiences\, and enjoy each other’s company. To ensure that everyone feels welcome and comfortable\, we encourage you to read through our code of conduct.
URL:https://quirksocial.ca/event/the-pop-up-holiday-market-6/
LOCATION:Cochrane Lions Club Event Centre\, 109 Fifth Avenue\, Cochrane\, Alberta\, T4C 0A4\, Canada
END:VEVENT
END:VCALENDAR