BEGIN:VCALENDAR
VERSION:2.0
PRODID:-//Quirk Social  - ECPv6.15.18//NONSGML v1.0//EN
CALSCALE:GREGORIAN
METHOD:PUBLISH
X-WR-CALNAME:Quirk Social 
X-ORIGINAL-URL:https://quirksocial.ca
X-WR-CALDESC:Events for Quirk Social 
REFRESH-INTERVAL;VALUE=DURATION:PT1H
X-Robots-Tag:noindex
X-PUBLISHED-TTL:PT1H
BEGIN:VTIMEZONE
TZID:America/Edmonton
BEGIN:DAYLIGHT
TZOFFSETFROM:-0700
TZOFFSETTO:-0600
TZNAME:MDT
DTSTART:20240310T090000
END:DAYLIGHT
BEGIN:STANDARD
TZOFFSETFROM:-0600
TZOFFSETTO:-0700
TZNAME:MST
DTSTART:20241103T080000
END:STANDARD
BEGIN:DAYLIGHT
TZOFFSETFROM:-0700
TZOFFSETTO:-0600
TZNAME:MDT
DTSTART:20250309T090000
END:DAYLIGHT
BEGIN:STANDARD
TZOFFSETFROM:-0600
TZOFFSETTO:-0700
TZNAME:MST
DTSTART:20251102T080000
END:STANDARD
BEGIN:DAYLIGHT
TZOFFSETFROM:-0700
TZOFFSETTO:-0600
TZNAME:MDT
DTSTART:20260308T090000
END:DAYLIGHT
BEGIN:STANDARD
TZOFFSETFROM:-0600
TZOFFSETTO:-0700
TZNAME:MST
DTSTART:20261101T080000
END:STANDARD
END:VTIMEZONE
BEGIN:VEVENT
DTSTART;TZID=America/Edmonton:20251213T100000
DTEND;TZID=America/Edmonton:20251214T160000
DTSTAMP:20260423T152058
CREATED:20251208T215732Z
LAST-MODIFIED:20251208T215734Z
UID:10531-1765620000-1765728000@quirksocial.ca
SUMMARY:VENDOR POP-UP // Happy Soul Clothing Co.
DESCRIPTION:Pop-Up! \n\n\n\nStop by the store to see Alyson’s beautiful hand-drawn designs.🗓️ This Saturday & Sunday Dec. 13 + 14 \n\n\n\nThe Social Spot Marketplace222 1 St W\, Cochrane\, AB \n\n\n\nAlyson is the owner and artist behind Happy Soul Clothing Co.—an apparel brand filled with fun\, unique\, hand-drawn designs for kids and the young at heart. What started as a simple creative outlet while raising her young children has grown into a joyful\, community-loved business. Alyson now releases seasonal collections on her website and offers custom design work\, thoughtfully tailored to suit your specific needs. Alyson’s goal is to bring a little bit of happiness to everyone’s wardrobe!
URL:https://quirksocial.ca/event/vendor-pop-up-happy-soul-clothing-co/
LOCATION:The Social Spot 222 1 St W\, 222 1 St W\, Cochrane\, Alberta\, T4C 1Z6
CATEGORIES:Pop-Up Market
ATTACH;FMTTYPE=image/jpeg:https://quirksocial.ca/wp-content/uploads/2025/12/588990149_18090435965503905_6630755498479818900_n.jpg
END:VEVENT
END:VCALENDAR