BEGIN:VCALENDAR
VERSION:2.0
PRODID:-//Quirk Social  - ECPv6.15.18//NONSGML v1.0//EN
CALSCALE:GREGORIAN
METHOD:PUBLISH
X-ORIGINAL-URL:https://quirksocial.ca
X-WR-CALDESC:Events for Quirk Social 
REFRESH-INTERVAL;VALUE=DURATION:PT1H
X-Robots-Tag:noindex
X-PUBLISHED-TTL:PT1H
BEGIN:VTIMEZONE
TZID:America/Edmonton
BEGIN:DAYLIGHT
TZOFFSETFROM:-0700
TZOFFSETTO:-0600
TZNAME:MDT
DTSTART:20240310T090000
END:DAYLIGHT
BEGIN:STANDARD
TZOFFSETFROM:-0600
TZOFFSETTO:-0700
TZNAME:MST
DTSTART:20241103T080000
END:STANDARD
BEGIN:DAYLIGHT
TZOFFSETFROM:-0700
TZOFFSETTO:-0600
TZNAME:MDT
DTSTART:20250309T090000
END:DAYLIGHT
BEGIN:STANDARD
TZOFFSETFROM:-0600
TZOFFSETTO:-0700
TZNAME:MST
DTSTART:20251102T080000
END:STANDARD
BEGIN:DAYLIGHT
TZOFFSETFROM:-0700
TZOFFSETTO:-0600
TZNAME:MDT
DTSTART:20260308T090000
END:DAYLIGHT
BEGIN:STANDARD
TZOFFSETFROM:-0600
TZOFFSETTO:-0700
TZNAME:MST
DTSTART:20261101T080000
END:STANDARD
END:VTIMEZONE
BEGIN:VEVENT
DTSTART;TZID=America/Edmonton:20251212T190000
DTEND;TZID=America/Edmonton:20251212T210000
DTSTAMP:20260423T152156
CREATED:20251105T211328Z
LAST-MODIFIED:20251105T211446Z
UID:10493-1765566000-1765573200@quirksocial.ca
SUMMARY:A Stoney Christmas in Cochrane
DESCRIPTION:Partner Event! \n\n\n\nA reimagined Christmas tale featuring traditional Indigenous dance\, song and storytelling. \n\n\n\nJoin the multi-generational Smalleyes Family of Stoney Nakoda as they bring their reimagined Christmas tale featuring traditional Indigenous dance\, song and storytelling to Cochrane for the first time. A perfect holiday event for the whole family! \n\n\n\nThe Smalleyes Family is an extended family of performers\, artists and community leaders who bring along their Stoney culture wherever they go. It’s both enlightening and deeply compelling – not just given their diverse talents and abilities\, but because they share it with such courage and generosity of spirit. (shared from artsPlace Canmore)
URL:https://quirksocial.ca/event/a-stoney-christmas-in-cochrane/
LOCATION:Cochrane Lions Club Event Centre\, 109 Fifth Avenue\, Cochrane\, Alberta\, T4C 0A4\, Canada
CATEGORIES:Partner Event
ATTACH;FMTTYPE=image/png:https://quirksocial.ca/wp-content/uploads/2025/11/a-stoney-Christmas-1.png
END:VEVENT
END:VCALENDAR