BEGIN:VCALENDAR
VERSION:2.0
PRODID:-//Quirk Social  - ECPv6.15.18//NONSGML v1.0//EN
CALSCALE:GREGORIAN
METHOD:PUBLISH
X-WR-CALNAME:Quirk Social 
X-ORIGINAL-URL:https://quirksocial.ca
X-WR-CALDESC:Events for Quirk Social 
REFRESH-INTERVAL;VALUE=DURATION:PT1H
X-Robots-Tag:noindex
X-PUBLISHED-TTL:PT1H
BEGIN:VTIMEZONE
TZID:America/Edmonton
BEGIN:DAYLIGHT
TZOFFSETFROM:-0700
TZOFFSETTO:-0600
TZNAME:MDT
DTSTART:20240310T090000
END:DAYLIGHT
BEGIN:STANDARD
TZOFFSETFROM:-0600
TZOFFSETTO:-0700
TZNAME:MST
DTSTART:20241103T080000
END:STANDARD
BEGIN:DAYLIGHT
TZOFFSETFROM:-0700
TZOFFSETTO:-0600
TZNAME:MDT
DTSTART:20250309T090000
END:DAYLIGHT
BEGIN:STANDARD
TZOFFSETFROM:-0600
TZOFFSETTO:-0700
TZNAME:MST
DTSTART:20251102T080000
END:STANDARD
BEGIN:DAYLIGHT
TZOFFSETFROM:-0700
TZOFFSETTO:-0600
TZNAME:MDT
DTSTART:20260308T090000
END:DAYLIGHT
BEGIN:STANDARD
TZOFFSETFROM:-0600
TZOFFSETTO:-0700
TZNAME:MST
DTSTART:20261101T080000
END:STANDARD
END:VTIMEZONE
BEGIN:VEVENT
DTSTART;TZID=America/Edmonton:20251004T100000
DTEND;TZID=America/Edmonton:20251004T180000
DTSTAMP:20260423T182553
CREATED:20250926T191211Z
LAST-MODIFIED:20250926T191213Z
UID:10415-1759572000-1759600800@quirksocial.ca
SUMMARY:VENDOR POP-UP // Re-claim it!
DESCRIPTION:Pop-Up! \n\n\n\nCome to the store Oct 4\, 10am – 6pm to see Noreen’s beautiful moss art \n\n\n\nThe Social Spot Marketplace222 1 St W\, Cochrane\, AB \n\n\n\nAfter facing cancer\, Noreen found calm and inspiration in nature – and began creating preserved moss art that brings the forest’s magic indoors. Each piece is handcrafted with sustainably sourced\, naturally preserved moss and botanicals – requiring no water\, sunlight\, or care. \n\n\n\nCollections range from woodland scenes and whimsical creations to spiritual and enchanted pieces\, each one of a kind and designed to spark wonder\, stillness\, and imagination. \n\n\n\n“We make products to help you reclaim your inner Zen”
URL:https://quirksocial.ca/event/vendor-pop-up-re-claim-it/
LOCATION:The Social Spot 222 1 St W\, 222 1 St W\, Cochrane\, Alberta\, T4C 1Z6
CATEGORIES:Pop-Up Market
ATTACH;FMTTYPE=image/png:https://quirksocial.ca/wp-content/uploads/2025/09/Facebook-Event-Cover-1.png
END:VEVENT
END:VCALENDAR