BEGIN:VCALENDAR
VERSION:2.0
PRODID:-//Quirk Social  - ECPv6.15.18//NONSGML v1.0//EN
CALSCALE:GREGORIAN
METHOD:PUBLISH
X-WR-CALNAME:Quirk Social 
X-ORIGINAL-URL:https://quirksocial.ca
X-WR-CALDESC:Events for Quirk Social 
REFRESH-INTERVAL;VALUE=DURATION:PT1H
X-Robots-Tag:noindex
X-PUBLISHED-TTL:PT1H
BEGIN:VTIMEZONE
TZID:America/Edmonton
BEGIN:DAYLIGHT
TZOFFSETFROM:-0700
TZOFFSETTO:-0600
TZNAME:MDT
DTSTART:20240310T090000
END:DAYLIGHT
BEGIN:STANDARD
TZOFFSETFROM:-0600
TZOFFSETTO:-0700
TZNAME:MST
DTSTART:20241103T080000
END:STANDARD
BEGIN:DAYLIGHT
TZOFFSETFROM:-0700
TZOFFSETTO:-0600
TZNAME:MDT
DTSTART:20250309T090000
END:DAYLIGHT
BEGIN:STANDARD
TZOFFSETFROM:-0600
TZOFFSETTO:-0700
TZNAME:MST
DTSTART:20251102T080000
END:STANDARD
BEGIN:DAYLIGHT
TZOFFSETFROM:-0700
TZOFFSETTO:-0600
TZNAME:MDT
DTSTART:20260308T090000
END:DAYLIGHT
BEGIN:STANDARD
TZOFFSETFROM:-0600
TZOFFSETTO:-0700
TZNAME:MST
DTSTART:20261101T080000
END:STANDARD
END:VTIMEZONE
BEGIN:VEVENT
DTSTART;TZID=America/Edmonton:20250822T170000
DTEND;TZID=America/Edmonton:20250822T190000
DTSTAMP:20260423T212202
CREATED:20250424T220039Z
LAST-MODIFIED:20250424T220042Z
UID:10209-1755882000-1755889200@quirksocial.ca
SUMMARY:Texas BBQ with The Butchery Block
DESCRIPTION:Partner Event – Texas BBQ Night is Back\, Cochrane  \n\n\n\nGet ready for our mouthwatering smoked brisket\, pulled pork\, Texas Hot Links\, and all the fixin’s—coleslaw\, baked beans\, and homemade cornbread. \n\n\n\nStarting at 5 PM – Dine-in or Take-out \n\n\n\nCochrane Lions Rodeo Grounds (in the heart of Cochrane) \n\n\n\nWe always sell out\, so beat the rush and pre-order now at thebutcheryblock.com/store or call 403-400-2150 \n\n\n\nLock in your plate of smoky\, southern goodness and let your crew know it’s BBQ time! 
URL:https://quirksocial.ca/event/texas-bbq-with-the-butchery-block/
LOCATION:Cochrane Lions Rodeo Grounds\, 109 Fifth Ave\, Cochrane\, Alberta\, T4C 0A4
CATEGORIES:Partner Event
ATTACH;FMTTYPE=image/png:https://quirksocial.ca/wp-content/uploads/2025/04/Texas-BBQ-No-Date-1920-x-1005.png
END:VEVENT
END:VCALENDAR