BEGIN:VCALENDAR
VERSION:2.0
PRODID:-//Quirk Social  - ECPv6.15.18//NONSGML v1.0//EN
CALSCALE:GREGORIAN
METHOD:PUBLISH
X-ORIGINAL-URL:https://quirksocial.ca
X-WR-CALDESC:Events for Quirk Social 
REFRESH-INTERVAL;VALUE=DURATION:PT1H
X-Robots-Tag:noindex
X-PUBLISHED-TTL:PT1H
BEGIN:VTIMEZONE
TZID:America/Edmonton
BEGIN:DAYLIGHT
TZOFFSETFROM:-0700
TZOFFSETTO:-0600
TZNAME:MDT
DTSTART:20240310T090000
END:DAYLIGHT
BEGIN:STANDARD
TZOFFSETFROM:-0600
TZOFFSETTO:-0700
TZNAME:MST
DTSTART:20241103T080000
END:STANDARD
BEGIN:DAYLIGHT
TZOFFSETFROM:-0700
TZOFFSETTO:-0600
TZNAME:MDT
DTSTART:20250309T090000
END:DAYLIGHT
BEGIN:STANDARD
TZOFFSETFROM:-0600
TZOFFSETTO:-0700
TZNAME:MST
DTSTART:20251102T080000
END:STANDARD
BEGIN:DAYLIGHT
TZOFFSETFROM:-0700
TZOFFSETTO:-0600
TZNAME:MDT
DTSTART:20260308T090000
END:DAYLIGHT
BEGIN:STANDARD
TZOFFSETFROM:-0600
TZOFFSETTO:-0700
TZNAME:MST
DTSTART:20261101T080000
END:STANDARD
END:VTIMEZONE
BEGIN:VEVENT
DTSTART;TZID=America/Edmonton:20250810T120000
DTEND;TZID=America/Edmonton:20250810T190000
DTSTAMP:20260423T212235
CREATED:20250708T201007Z
LAST-MODIFIED:20250708T202043Z
UID:10241-1754827200-1754852400@quirksocial.ca
SUMMARY:Cochrane Food Fest 2025
DESCRIPTION:Get ready for a day filled with flavours\, fun\, and family activities at the 5th Annual Cochrane Food Fest! Join us at the Cochrane & District Agricultural Society Park in celebrating our local culinary scene in sample-sized portions perfect for tasting a bit of everything. Try something new and unique\, and enjoy some of your favourites – there’s something for everyone! \n\n\n\nAlongside the delicious food and drinks\, there will be beer gardens\, live entertainment\, family-friendly activities\, and a bustling marketplace to explore. This year we will be adding more fun surprises\, including a lettuce eating contest! You won’t want to miss it. \n\n\n\nSave the date for August 10\, 2025\, and prepare to taste the best of local food with us this summer! Sample over 20 food vendors – our largest selection yet! \n\n\n\nFollow us for updates: Stay in the loop about the stage lineup\, menus\, and more by following us on social media @cochranefoodfest \n\n\n\n$2/person\, $5/family at the gate. \n\n\n\nSponsorship: Want to support the event? Please email cochranefoodfest@gmail.com for opportunities to get involved. \n\n\n\nAre you a food related vendor? Apply Here: https://forms.gle/F4fFkEiJ1gyvw35j7
URL:https://quirksocial.ca/event/cochrane-food-fest-2025/
LOCATION:Cochrane & District Agricultural Society Park\, 43080 Bow Valley Trail\, Cochrane\, AB\, Cochrane\, Alberta\, T4C 1A9
ATTACH;FMTTYPE=image/png:https://quirksocial.ca/wp-content/uploads/2025/07/CFF-2024-FB-BANNER-2.png
END:VEVENT
END:VCALENDAR