BEGIN:VCALENDAR
VERSION:2.0
PRODID:-//Quirk Social  - ECPv6.15.18//NONSGML v1.0//EN
CALSCALE:GREGORIAN
METHOD:PUBLISH
X-WR-CALNAME:Quirk Social 
X-ORIGINAL-URL:https://quirksocial.ca
X-WR-CALDESC:Events for Quirk Social 
REFRESH-INTERVAL;VALUE=DURATION:PT1H
X-Robots-Tag:noindex
X-PUBLISHED-TTL:PT1H
BEGIN:VTIMEZONE
TZID:America/Edmonton
BEGIN:DAYLIGHT
TZOFFSETFROM:-0700
TZOFFSETTO:-0600
TZNAME:MDT
DTSTART:20240310T090000
END:DAYLIGHT
BEGIN:STANDARD
TZOFFSETFROM:-0600
TZOFFSETTO:-0700
TZNAME:MST
DTSTART:20241103T080000
END:STANDARD
BEGIN:DAYLIGHT
TZOFFSETFROM:-0700
TZOFFSETTO:-0600
TZNAME:MDT
DTSTART:20250309T090000
END:DAYLIGHT
BEGIN:STANDARD
TZOFFSETFROM:-0600
TZOFFSETTO:-0700
TZNAME:MST
DTSTART:20251102T080000
END:STANDARD
BEGIN:DAYLIGHT
TZOFFSETFROM:-0700
TZOFFSETTO:-0600
TZNAME:MDT
DTSTART:20260308T090000
END:DAYLIGHT
BEGIN:STANDARD
TZOFFSETFROM:-0600
TZOFFSETTO:-0700
TZNAME:MST
DTSTART:20261101T080000
END:STANDARD
END:VTIMEZONE
BEGIN:VEVENT
DTSTART;TZID=America/Edmonton:20250802T100000
DTEND;TZID=America/Edmonton:20250802T180000
DTSTAMP:20260423T212143
CREATED:20250728T212620Z
LAST-MODIFIED:20250728T221929Z
UID:10260-1754128800-1754157600@quirksocial.ca
SUMMARY:Vendor Pop-Up The Brudders Co
DESCRIPTION:Join us for a Vendor Pop-Up! \n\n\n\nVisit Heather in store on Saturday Aug 2nd from 10am-6pm to get a piece of permanent jewellery and pick out something from her charm bar. \n\n\n\nWhether you’re working that corporate job\, a CEO\, or a stay at home mom we can all agree we love to accessorize. And here at BruddersCo we want to help you express your style! \n\n\n\n“I wanted to create a line that is totally customizable and create an experience for others to pick pieces that represent a milestone\, relationship or symbolize something that is meaningful to them!” \n\n\n\nProceeds of sales will be donated to help sponsor a special Olympic athlete compete in the 2026 National Summer Games.
URL:https://quirksocial.ca/event/vendor-pop-up-the-brudders-co/
LOCATION:The Social Spot 222 1 St W\, 222 1 St W\, Cochrane\, Alberta\, T4C 1Z6
END:VEVENT
END:VCALENDAR