BEGIN:VCALENDAR
VERSION:2.0
PRODID:-//Quirk Social  - ECPv6.15.18//NONSGML v1.0//EN
CALSCALE:GREGORIAN
METHOD:PUBLISH
X-ORIGINAL-URL:https://quirksocial.ca
X-WR-CALDESC:Events for Quirk Social 
REFRESH-INTERVAL;VALUE=DURATION:PT1H
X-Robots-Tag:noindex
X-PUBLISHED-TTL:PT1H
BEGIN:VTIMEZONE
TZID:America/Edmonton
BEGIN:DAYLIGHT
TZOFFSETFROM:-0700
TZOFFSETTO:-0600
TZNAME:MDT
DTSTART:20240310T090000
END:DAYLIGHT
BEGIN:STANDARD
TZOFFSETFROM:-0600
TZOFFSETTO:-0700
TZNAME:MST
DTSTART:20241103T080000
END:STANDARD
BEGIN:DAYLIGHT
TZOFFSETFROM:-0700
TZOFFSETTO:-0600
TZNAME:MDT
DTSTART:20250309T090000
END:DAYLIGHT
BEGIN:STANDARD
TZOFFSETFROM:-0600
TZOFFSETTO:-0700
TZNAME:MST
DTSTART:20251102T080000
END:STANDARD
BEGIN:DAYLIGHT
TZOFFSETFROM:-0700
TZOFFSETTO:-0600
TZNAME:MDT
DTSTART:20260308T090000
END:DAYLIGHT
BEGIN:STANDARD
TZOFFSETFROM:-0600
TZOFFSETTO:-0700
TZNAME:MST
DTSTART:20261101T080000
END:STANDARD
END:VTIMEZONE
BEGIN:VEVENT
DTSTART;TZID=America/Edmonton:20250718T100000
DTEND;TZID=America/Edmonton:20250718T180000
DTSTAMP:20260423T225811
CREATED:20250716T195146Z
LAST-MODIFIED:20250716T201433Z
UID:10249-1752832800-1752861600@quirksocial.ca
SUMMARY:Vendor Pop-Up Guatimi Specialty Coffee
DESCRIPTION:Join us for a Vendor Pop-Up! \n\n\n\nGuatimi provides you with the best specialty coffee from Brazil’s Alta Mogiana Region\, crafted with passion and care. \n\n\n\nVisit them in store Friday July 18th from 10am-6pm! \n\n\n\n“At Guatimi\, we believe that great coffee is an art form. Our mission is to provide you with the best specialty coffee from Brazil’s Alta Mogiana Region\, crafted with passion and care. \n\n\n\nWe are a family of coffee lovers who believe that every cup tells a story. We are proud to share Brazil’s unique coffee culture with the world. \n\n\n\nAt Guatimi\, we are committed to delivering an exceptional customer experience. We understand that buying coffee is more than just about the product. It’s about discovering new flavours\, connecting with a community of coffee lovers\, and supporting a sustainable and equitable coffee industry. \n\n\n\nJoin us on our mission to brew something extraordinary and become part of the Guatimi family.”
URL:https://quirksocial.ca/event/vendor-pop-up-guatimi-specialty-coffee/
LOCATION:The Social Spot 222 1 St W\, 222 1 St W\, Cochrane\, Alberta\, T4C 1Z6
END:VEVENT
BEGIN:VEVENT
DTSTART;TZID=America/Edmonton:20250718T180000
DTEND;TZID=America/Edmonton:20250719T230000
DTSTAMP:20260423T225811
CREATED:20241113T225220Z
LAST-MODIFIED:20241113T225435Z
UID:9955-1752861600-1752966000@quirksocial.ca
SUMMARY:Bow Valley Boot Stomp
DESCRIPTION:Get ready for a boot-stomping good time at Bow Valley Boot Stomp\, Cochrane’s very own small-town country music festival that’s all about heart and local pride! Our festival is dedicated to showcasing emerging country music artists who are passionate about their craft and eager to share their talents on a festival stage. \n\n\n\nTrue to our commitment to supporting local talent\, over half of our performers come from Alberta\, delivering authentic country sounds from right here in the province. \n\n\n\nImmerse yourself in a weekend filled with foot-stomping tunes\, dance along with local talents that will keep you moving all night\, and indulge in a variety of mouth-watering options from food trucks. With special entertainment areas\, it’s a family-friendly affair that everyone can enjoy. For the ultimate festival experience\, take advantage of the camping options and stay right in the heart of the action. \n\n\n\nBow Valley Boot Stomp guarantees an exciting and fun experience blending great music\, a welcoming atmosphere\, and a deep sense of community. From the moment you arrive\, expect electrifying performances\, friendly faces\, and a festival vibe that will make you feel right at home. \n\n\n\nMark your calendars for the third weekend of July and join us in Cochrane\, Alberta\, for an unforgettable celebration of country music\, local pride\, and an all-around fantastic time!
URL:https://bootstomp.ca/?fbclid=IwY2xjawGIp2tleHRuA2FlbQIxMAABHYC-2jJ9NXUmyXfnloRiQFB0PzFlFMNWWBB43wlSBOPcgap--C8F2Brr3Q_aem_a0eItSACLF8cSK1ne2NQ_Q
LOCATION:Alberta
END:VEVENT
END:VCALENDAR