BEGIN:VCALENDAR
VERSION:2.0
PRODID:-//Quirk Social  - ECPv6.15.18//NONSGML v1.0//EN
CALSCALE:GREGORIAN
METHOD:PUBLISH
X-ORIGINAL-URL:https://quirksocial.ca
X-WR-CALDESC:Events for Quirk Social 
REFRESH-INTERVAL;VALUE=DURATION:PT1H
X-Robots-Tag:noindex
X-PUBLISHED-TTL:PT1H
BEGIN:VTIMEZONE
TZID:America/Edmonton
BEGIN:DAYLIGHT
TZOFFSETFROM:-0700
TZOFFSETTO:-0600
TZNAME:MDT
DTSTART:20240310T090000
END:DAYLIGHT
BEGIN:STANDARD
TZOFFSETFROM:-0600
TZOFFSETTO:-0700
TZNAME:MST
DTSTART:20241103T080000
END:STANDARD
BEGIN:DAYLIGHT
TZOFFSETFROM:-0700
TZOFFSETTO:-0600
TZNAME:MDT
DTSTART:20250309T090000
END:DAYLIGHT
BEGIN:STANDARD
TZOFFSETFROM:-0600
TZOFFSETTO:-0700
TZNAME:MST
DTSTART:20251102T080000
END:STANDARD
BEGIN:DAYLIGHT
TZOFFSETFROM:-0700
TZOFFSETTO:-0600
TZNAME:MDT
DTSTART:20260308T090000
END:DAYLIGHT
BEGIN:STANDARD
TZOFFSETFROM:-0600
TZOFFSETTO:-0700
TZNAME:MST
DTSTART:20261101T080000
END:STANDARD
END:VTIMEZONE
BEGIN:VEVENT
DTSTART;TZID=America/Edmonton:20250202T130000
DTEND;TZID=America/Edmonton:20250202T160000
DTSTAMP:20260424T075333
CREATED:20250120T204919Z
LAST-MODIFIED:20250128T225215Z
UID:10078-1738501200-1738512000@quirksocial.ca
SUMMARY:3rd Anniversary & Grand Re-Opening Celebration
DESCRIPTION:Join us for our 3rd Anniversary & Grand Re-Opening Celebration at The Social Spot Marketplace! \n\n\n\nWe are so excited and fortunate to be moving downstairs to 222 1st Street West. This is directly next to Mackays Ice Cream on the main level. This move will make us much more accessible\, and provides space for more vendors as well! \n\n\n\nFrom 1-4pm\, Feb 2nd\, come check out the new space. Some of our vendors will be there and there will be giveaways\, promotions\, and samples to enjoy. \n\n\n\nEnter to win:-Two weekend passes to Bow Valley Boot Stomp plus some awesome swag!-$100 gift card for the store! \n\n\n\nWe would like to say a huge THANK YOU to everyone for their support over the last year\, and welcome you to our new space. We hope to see you there!
URL:https://quirksocial.ca/event/3rd-anniversary-grand-re-opening-celebration/
LOCATION:Alberta
END:VEVENT
END:VCALENDAR