BEGIN:VCALENDAR
VERSION:2.0
PRODID:-//Quirk Social  - ECPv6.15.18//NONSGML v1.0//EN
CALSCALE:GREGORIAN
METHOD:PUBLISH
X-WR-CALNAME:Quirk Social 
X-ORIGINAL-URL:https://quirksocial.ca
X-WR-CALDESC:Events for Quirk Social 
REFRESH-INTERVAL;VALUE=DURATION:PT1H
X-Robots-Tag:noindex
X-PUBLISHED-TTL:PT1H
BEGIN:VTIMEZONE
TZID:America/Edmonton
BEGIN:DAYLIGHT
TZOFFSETFROM:-0700
TZOFFSETTO:-0600
TZNAME:MDT
DTSTART:20240310T090000
END:DAYLIGHT
BEGIN:STANDARD
TZOFFSETFROM:-0600
TZOFFSETTO:-0700
TZNAME:MST
DTSTART:20241103T080000
END:STANDARD
BEGIN:DAYLIGHT
TZOFFSETFROM:-0700
TZOFFSETTO:-0600
TZNAME:MDT
DTSTART:20250309T090000
END:DAYLIGHT
BEGIN:STANDARD
TZOFFSETFROM:-0600
TZOFFSETTO:-0700
TZNAME:MST
DTSTART:20251102T080000
END:STANDARD
BEGIN:DAYLIGHT
TZOFFSETFROM:-0700
TZOFFSETTO:-0600
TZNAME:MDT
DTSTART:20260308T090000
END:DAYLIGHT
BEGIN:STANDARD
TZOFFSETFROM:-0600
TZOFFSETTO:-0700
TZNAME:MST
DTSTART:20261101T080000
END:STANDARD
END:VTIMEZONE
BEGIN:VEVENT
DTSTART;TZID=America/Edmonton:20250124T190000
DTEND;TZID=America/Edmonton:20250124T210000
DTSTAMP:20260424T093953
CREATED:20250102T185648Z
LAST-MODIFIED:20250102T185852Z
UID:10025-1737745200-1737752400@quirksocial.ca
SUMMARY:Speed-Friending
DESCRIPTION:We’re ready to help break the ice and get rid of those awkward social barriers! \n\n\n\nSpeed-Friending provides an opportunity to meet new friends in Cochrane in a fun and casual environment! Set up like speed-dating\, attendees engage through easy-going and direct conversations\, resulting in new connections and friendships. We will also have ice breaker games for a chance to win the door prize! \n\n\n\nThis idea first stemmed from repeatedly hearing from people that they’re looking to build new friendships\, but aren’t sure where to start as adults. With so many new people coming to Cochrane\, we see the need and interest for this type of event even more. \n\n\n\nYES! Most people do tend to come alone to these events\, but you’re welcome to come with a friend – you’ll just have some time to chat with them too. \n\n\n\nFound’s bar will be open with wine\, beer\, coffee and non-alcoholic drinks available. \n\n\n\nGet your tickets before Jan 17 for Early Bird pricing! \n\n\n\n\n\n\n\n\nGrab your Ticket!
URL:https://quirksocial.ca/event/speed-friending-4/
LOCATION:Found Bookshop\, 208 1 Street West\, Cochrane\, Alberta\, T4C 1B7\, Canada
END:VEVENT
END:VCALENDAR