BEGIN:VCALENDAR
VERSION:2.0
PRODID:-//Quirk Social  - ECPv6.15.18//NONSGML v1.0//EN
CALSCALE:GREGORIAN
METHOD:PUBLISH
X-WR-CALNAME:Quirk Social 
X-ORIGINAL-URL:https://quirksocial.ca
X-WR-CALDESC:Events for Quirk Social 
REFRESH-INTERVAL;VALUE=DURATION:PT1H
X-Robots-Tag:noindex
X-PUBLISHED-TTL:PT1H
BEGIN:VTIMEZONE
TZID:America/Edmonton
BEGIN:DAYLIGHT
TZOFFSETFROM:-0700
TZOFFSETTO:-0600
TZNAME:MDT
DTSTART:20230312T090000
END:DAYLIGHT
BEGIN:STANDARD
TZOFFSETFROM:-0600
TZOFFSETTO:-0700
TZNAME:MST
DTSTART:20231105T080000
END:STANDARD
BEGIN:DAYLIGHT
TZOFFSETFROM:-0700
TZOFFSETTO:-0600
TZNAME:MDT
DTSTART:20240310T090000
END:DAYLIGHT
BEGIN:STANDARD
TZOFFSETFROM:-0600
TZOFFSETTO:-0700
TZNAME:MST
DTSTART:20241103T080000
END:STANDARD
BEGIN:DAYLIGHT
TZOFFSETFROM:-0700
TZOFFSETTO:-0600
TZNAME:MDT
DTSTART:20250309T090000
END:DAYLIGHT
BEGIN:STANDARD
TZOFFSETFROM:-0600
TZOFFSETTO:-0700
TZNAME:MST
DTSTART:20251102T080000
END:STANDARD
END:VTIMEZONE
BEGIN:VEVENT
DTSTART;TZID=America/Edmonton:20241220T170000
DTEND;TZID=America/Edmonton:20241220T210000
DTSTAMP:20260424T105031
CREATED:20240820T171319Z
LAST-MODIFIED:20241205T173417Z
UID:9650-1734714000-1734728400@quirksocial.ca
SUMMARY:The Pop-Up Holiday Market
DESCRIPTION:Back for its 5th year\, the Holiday Pop-Up Market is one NIGHT only this year! Save the date and finish off your shopping with the last stop shop Holiday Market on Friday\, December 20th from 5-9pm at the Cochrane Lions Event Centre. Enjoy a festive cocktail & live music\, as you peruse the locally made gift ideas to wrap up your holiday shopping. Our ever popular swag bags will be available for the first 100 attendees. $2 entry. \n\n\n\nVendor list: \n\n\n\nThe Craft CochraneBasosiMaebird HandmadeFlint & FeatherScentsyTeam TaTa’sNorth Star Candle CoMCN Resin ObsessionMaMi & MeGinger Sprout CreationsWhale Being CrochetAmanda Blaire WellnessTotally HookedMogra BijouxNorthern Plume CreationsThe Eclectic JewellerCreativeCutlery2024NorwexAfton Brazzoni ArtDesign66Metanoia CreationsWild Country Art & Trading CoTuesday DesignsShona Brunton – Mary Kay Beauty ConsultantGluten Free Goods By MelCups of Creativitea and Blue-eyed Gal CreationsWren Wild Candle CoSassySpoon DesignsEmpowerCareFamiliar Laser DesignKonde ConsultingPUDU ADVENTUREBethany Vanderputten Illustration and Fine ArtNomad’s KitchenORE JewerlyForge TechGoodbakeLeaf FilterMeadows to MountainsLiving Through the seasonsJ. Tamer Trading CompanyRevive N ShineThe Cochrane Stitch WitchRafaella Graña’s ArtDropped Crystal Ltd.Pepper + Pilsner PapercraftsSennsational SerenityThe Blair Stitch \n\n\n\nSubject to change.Follow @quirksocial on social media for more information. \n\n\n\nInterested vendors can apply HERE \n\n\n\n\n\n\n\n\n\n \n\n\n\nOur events are designed to foster fun\, inclusivity\, and camaraderie. We believe in creating spaces where people can come together to connect\, share experiences\, and enjoy each other’s company. To ensure that everyone feels welcome and comfortable\, we encourage you to read through our code of conduct.
URL:https://quirksocial.ca/event/the-pop-up-holiday-market-6/
LOCATION:Cochrane Lions Club Event Centre\, 109 Fifth Avenue\, Cochrane\, Alberta\, T4C 0A4\, Canada
END:VEVENT
END:VCALENDAR