BEGIN:VCALENDAR
VERSION:2.0
PRODID:-//Quirk Social  - ECPv6.15.18//NONSGML v1.0//EN
CALSCALE:GREGORIAN
METHOD:PUBLISH
X-WR-CALNAME:Quirk Social 
X-ORIGINAL-URL:https://quirksocial.ca
X-WR-CALDESC:Events for Quirk Social 
REFRESH-INTERVAL;VALUE=DURATION:PT1H
X-Robots-Tag:noindex
X-PUBLISHED-TTL:PT1H
BEGIN:VTIMEZONE
TZID:America/Edmonton
BEGIN:DAYLIGHT
TZOFFSETFROM:-0700
TZOFFSETTO:-0600
TZNAME:MDT
DTSTART:20230312T090000
END:DAYLIGHT
BEGIN:STANDARD
TZOFFSETFROM:-0600
TZOFFSETTO:-0700
TZNAME:MST
DTSTART:20231105T080000
END:STANDARD
BEGIN:DAYLIGHT
TZOFFSETFROM:-0700
TZOFFSETTO:-0600
TZNAME:MDT
DTSTART:20240310T090000
END:DAYLIGHT
BEGIN:STANDARD
TZOFFSETFROM:-0600
TZOFFSETTO:-0700
TZNAME:MST
DTSTART:20241103T080000
END:STANDARD
BEGIN:DAYLIGHT
TZOFFSETFROM:-0700
TZOFFSETTO:-0600
TZNAME:MDT
DTSTART:20250309T090000
END:DAYLIGHT
BEGIN:STANDARD
TZOFFSETFROM:-0600
TZOFFSETTO:-0700
TZNAME:MST
DTSTART:20251102T080000
END:STANDARD
END:VTIMEZONE
BEGIN:VEVENT
DTSTART;TZID=America/Edmonton:20241128T170000
DTEND;TZID=America/Edmonton:20241128T210000
DTSTAMP:20260424T105024
CREATED:20241112T173200Z
LAST-MODIFIED:20241120T170940Z
UID:9946-1732813200-1732827600@quirksocial.ca
SUMMARY:Christmas in Cochrane
DESCRIPTION:Partner Event – Explore Cochrane and the Cochrane Chamber of Commerce invite you to support local businesses this year during CHRISTMAS IN COCHRANE! \n\n\n\nThe festivities begin the week of November 23rd with a holiday window competition—visit local businesses and vote for the best festive displays. Then\, on November 28th\, enjoy a cozy late-night shopping experience (open until 9pm!) as Cochrane’s small independent shops stay open late\, welcoming you with holiday deals\, festive ambiance\, and more. Look forward to extra seasonal magic with carolers\, hay rides\, and even a special visit from Santa! \n\n\n\nParticipating Businesses \n\n\n\n\nAmaryllis Crystal & Sound Portal\n\n\n\nAquaFire Leisure & Beachcomber Hot Tubs Cochrane\n\n\n\nCochrane Coffee Traders\n\n\n\nCochrane Floors and More\n\n\n\nCochrane Lanes\n\n\n\nColdwell Banker United\n\n\n\nFloral Fairy Flowers\n\n\n\nFoxy Box\n\n\n\nFound Books & Shop\n\n\n\nHeavenly Outhouse\n\n\n\nHorse Creek Candy and Gifts\n\n\n\nJoe’s Liquor\n\n\n\nMacKay’s Ice Cream\n\n\n\nMehtab East Indian Cuisine\n\n\n\nMila Dental\n\n\n\nNectare & Root\n\n\n\nPure Anada\n\n\n\nRenew Refresh Medical Spa\n\n\n\nRocky View Brewing Taproom\n\n\n\nRoute 22 Artist Collective Gallery\n\n\n\nStill Water Tea\n\n\n\nTHriv Apparel\n\n\n\nThe Haven Day Spa & Wellness Centre\n\n\n\nThe Messy Moose Studio\n\n\n\nThe Paisley Boutique\n\n\n\nThe Social Spot Marketplace\n\n\n\nTwo Pharmacy (Open until 8)\n\n\n\nWandering Willow Boutique\n\n\n\n\nCelebrate the season and support local by joining us in Cochrane for this joyful holiday event!
URL:https://quirksocial.ca/event/christmas-in-cochrane/
LOCATION:Alberta
END:VEVENT
END:VCALENDAR