BEGIN:VCALENDAR
VERSION:2.0
PRODID:-//Quirk Social  - ECPv6.15.18//NONSGML v1.0//EN
CALSCALE:GREGORIAN
METHOD:PUBLISH
X-WR-CALNAME:Quirk Social 
X-ORIGINAL-URL:https://quirksocial.ca
X-WR-CALDESC:Events for Quirk Social 
REFRESH-INTERVAL;VALUE=DURATION:PT1H
X-Robots-Tag:noindex
X-PUBLISHED-TTL:PT1H
BEGIN:VTIMEZONE
TZID:America/Edmonton
BEGIN:DAYLIGHT
TZOFFSETFROM:-0700
TZOFFSETTO:-0600
TZNAME:MDT
DTSTART:20230312T090000
END:DAYLIGHT
BEGIN:STANDARD
TZOFFSETFROM:-0600
TZOFFSETTO:-0700
TZNAME:MST
DTSTART:20231105T080000
END:STANDARD
BEGIN:DAYLIGHT
TZOFFSETFROM:-0700
TZOFFSETTO:-0600
TZNAME:MDT
DTSTART:20240310T090000
END:DAYLIGHT
BEGIN:STANDARD
TZOFFSETFROM:-0600
TZOFFSETTO:-0700
TZNAME:MST
DTSTART:20241103T080000
END:STANDARD
BEGIN:DAYLIGHT
TZOFFSETFROM:-0700
TZOFFSETTO:-0600
TZNAME:MDT
DTSTART:20250309T090000
END:DAYLIGHT
BEGIN:STANDARD
TZOFFSETFROM:-0600
TZOFFSETTO:-0700
TZNAME:MST
DTSTART:20251102T080000
END:STANDARD
END:VTIMEZONE
BEGIN:VEVENT
DTSTART;TZID=America/Edmonton:20241123T100000
DTEND;TZID=America/Edmonton:20241124T160000
DTSTAMP:20260424T121605
CREATED:20241108T225856Z
LAST-MODIFIED:20241122T220000Z
UID:9941-1732356000-1732464000@quirksocial.ca
SUMMARY:Vendor Pop-Up Larcher Woods & Crafts
DESCRIPTION:Join us for a Vendor Pop-Up! \n\n\n\nLarcher Woods and Crafts is a family-owned business that specializes in creating unique\, handmade wood décor with a rustic\, natural charm. Founded in 2020 by a wife and husband duo\, the company has quickly made a name for itself in the world of indie home décor. Drawing inspiration from the beauty of the mountains and the warmth of home\, Larcher Woods and Crafts offers a variety of custom\, handcrafted pieces that transform living spaces into cozy\, inviting environments. \n\n\n\nCome in to the store to shop their creations Nov. 23rd and 24th  \n\n\n\n12pm-8pm Saturday10am-4pm Sunday
URL:https://quirksocial.ca/event/vendor-pop-up-larcher-woods-crafts/
LOCATION:The Social Spot Marketplace\, 218 1 St W\, Cochrane\, Alberta\, T4C 2E7 Most popular places at this address\, Canada
END:VEVENT
END:VCALENDAR