BEGIN:VCALENDAR
VERSION:2.0
PRODID:-//Quirk Social  - ECPv6.15.18//NONSGML v1.0//EN
CALSCALE:GREGORIAN
METHOD:PUBLISH
X-WR-CALNAME:Quirk Social 
X-ORIGINAL-URL:https://quirksocial.ca
X-WR-CALDESC:Events for Quirk Social 
REFRESH-INTERVAL;VALUE=DURATION:PT1H
X-Robots-Tag:noindex
X-PUBLISHED-TTL:PT1H
BEGIN:VTIMEZONE
TZID:America/Edmonton
BEGIN:DAYLIGHT
TZOFFSETFROM:-0700
TZOFFSETTO:-0600
TZNAME:MDT
DTSTART:20230312T090000
END:DAYLIGHT
BEGIN:STANDARD
TZOFFSETFROM:-0600
TZOFFSETTO:-0700
TZNAME:MST
DTSTART:20231105T080000
END:STANDARD
BEGIN:DAYLIGHT
TZOFFSETFROM:-0700
TZOFFSETTO:-0600
TZNAME:MDT
DTSTART:20240310T090000
END:DAYLIGHT
BEGIN:STANDARD
TZOFFSETFROM:-0600
TZOFFSETTO:-0700
TZNAME:MST
DTSTART:20241103T080000
END:STANDARD
BEGIN:DAYLIGHT
TZOFFSETFROM:-0700
TZOFFSETTO:-0600
TZNAME:MDT
DTSTART:20250309T090000
END:DAYLIGHT
BEGIN:STANDARD
TZOFFSETFROM:-0600
TZOFFSETTO:-0700
TZNAME:MST
DTSTART:20251102T080000
END:STANDARD
END:VTIMEZONE
BEGIN:VEVENT
DTSTART;TZID=America/Edmonton:20241102T000000
DTEND;TZID=America/Edmonton:20241110T235959
DTSTAMP:20260424T121635
CREATED:20241024T210104Z
LAST-MODIFIED:20241024T210104Z
UID:9895-1730505600-1731283199@quirksocial.ca
SUMMARY:Cochrane Dining Week
DESCRIPTION:Partner Event  \n\n\n\nThis November\, embark on a culinary journey during Cochrane Dining Week\, running from November 2 -10\, 2024. Explore local flavours with culinary events\, unbeatable deals and specially curated set-menus\, ranging from $10 to $75. Whether you’re craving casual bites or gourmet experiences\, there’s something for every palate. \n\n\n\nCulinary EventsTaste of Cochrane – November 2ndAlberta’s 7 Signature Food Dinner – November 7thWine tasting event “High Altitude Italy” – November 9th \n\n\n\nSet MenusAvailable November 3 – 10th\, set menus range from:  ● Taste/Snack Offers – up to $10● Lunch Menus – up to $25● Casual Dinner Menus – Up to $40● Fine Dining Menus – Up to $75 \n\n\n\nParticipating locations – Mehtab East Indian Cuisine\, The Shire Pub\, Fence & Post\, Potpourri Bistro\, Aama Nepalese Cuisine\, BB.Q CHICKEN COCHRANE\, Still Water Tea\, Cabeza Grande\, Jaipur\, Half Hitch Brewing\, Cochrane Coffee Traders. For full menus\, click HERE \n\n\n\nDealsLocally produced sweets and treats from Early Dawn Farm\, Fallentimber Meadery\, Wildcat Coffee\, Sweet Gypsy Chocolates (and more!) available at The Social Spot Marketplace. \n\n\n\nCochrane Dining Week is more than just a chance to enjoy delectable food—it’s an opportunity to support local businesses and discover the diverse flavors that define Cochrane’s food scene. From cozy comfort food to innovative dishes\, the town’s chefs are ready to impress. This event is perfect for locals and visitors alike to explore Cochrane’s vibrant food community.  
URL:https://quirksocial.ca/event/cochrane-dining-week/
LOCATION:Cochrane Alberta
END:VEVENT
END:VCALENDAR