BEGIN:VCALENDAR
VERSION:2.0
PRODID:-//Quirk Social  - ECPv6.15.18//NONSGML v1.0//EN
CALSCALE:GREGORIAN
METHOD:PUBLISH
X-WR-CALNAME:Quirk Social 
X-ORIGINAL-URL:https://quirksocial.ca
X-WR-CALDESC:Events for Quirk Social 
REFRESH-INTERVAL;VALUE=DURATION:PT1H
X-Robots-Tag:noindex
X-PUBLISHED-TTL:PT1H
BEGIN:VTIMEZONE
TZID:America/Edmonton
BEGIN:DAYLIGHT
TZOFFSETFROM:-0700
TZOFFSETTO:-0600
TZNAME:MDT
DTSTART:20230312T090000
END:DAYLIGHT
BEGIN:STANDARD
TZOFFSETFROM:-0600
TZOFFSETTO:-0700
TZNAME:MST
DTSTART:20231105T080000
END:STANDARD
BEGIN:DAYLIGHT
TZOFFSETFROM:-0700
TZOFFSETTO:-0600
TZNAME:MDT
DTSTART:20240310T090000
END:DAYLIGHT
BEGIN:STANDARD
TZOFFSETFROM:-0600
TZOFFSETTO:-0700
TZNAME:MST
DTSTART:20241103T080000
END:STANDARD
BEGIN:DAYLIGHT
TZOFFSETFROM:-0700
TZOFFSETTO:-0600
TZNAME:MDT
DTSTART:20250309T090000
END:DAYLIGHT
BEGIN:STANDARD
TZOFFSETFROM:-0600
TZOFFSETTO:-0700
TZNAME:MST
DTSTART:20251102T080000
END:STANDARD
END:VTIMEZONE
BEGIN:VEVENT
DTSTART;TZID=America/Edmonton:20241031T150000
DTEND;TZID=America/Edmonton:20241031T180000
DTSTAMP:20260424T122116
CREATED:20241010T203212Z
LAST-MODIFIED:20241024T212210Z
UID:9887-1730386800-1730397600@quirksocial.ca
SUMMARY:Trick or Treat
DESCRIPTION:Bring the whole family down for some fun trick or treating in Historic Downtown Cochrane. Stop into the participating shops for treats\, promos and more! \n\n\n\nA great opportunity for the wee ones or as a kick off to the evening of trick or treating in your own community. \n\n\n\nParticipating businesses: \n\n\n\n\nArrowhead Veterinary Centre\n\n\n\nAscend Pediatrics\n\n\n\nColdwell Banker United\n\n\n\nDaon Korean Kitchen\n\n\n\nFence and Post\n\n\n\nFound Books\n\n\n\nGlobal Pet Foods\n\n\n\nHorse Creek Candy and Gifts\n\n\n\nKitchen Boutique\n\n\n\nLittle Caesars Mackay’s Ice Cream\n\n\n\nMountain View Optometry\n\n\n\nPure Anada\n\n\n\nRebel Comics\n\n\n\nStellar Studio\n\n\n\nStill Water Tea\n\n\n\nTexas Gate\n\n\n\nThe Messy Moose\n\n\n\nThe Social Spot Marketplace\n\n\n\nVine Coffee\n\n\n\nRE/MAX West Real Estate\n\n\n\nCochrane Floors and More\n\n\n\nMackay’s Ice Cream\n\n\n\n\n \n\n\n\nWatch for updates as more stores may be added.
URL:https://quirksocial.ca/event/trick-or-treat/
LOCATION:Alberta
END:VEVENT
END:VCALENDAR